BEGIN:VCALENDAR
VERSION:2.0
METHOD:PUBLISH
BEGIN:VEVENT
UID:WILD_APRICOT_EVENT_38940_SESSION_1
DTSTART:20090130T201800Z
DTEND:20090131T010000Z
SUMMARY:LG Sports Experience 2009
LOCATION:North Harbour Stadium
DESCRIPTION:http://kic.org.nz/event-38940\n\n\n\n\n\nlg fun day.pdf\n\n\n\n\nLG Sports Experience - Free Family fun Day.....\n
DTSTAMP:20181224T110311Z
END:VEVENT
END:VCALENDAR
