BEGIN:VCALENDAR
VERSION:2.0
METHOD:PUBLISH
BEGIN:VEVENT
UID:WILD_APRICOT_EVENT_36731_SESSION_1
DTSTART:20090106T200000Z
DTEND:20090106T200000Z
SUMMARY:Kids in Cars 2009
LOCATION:Pukekohe Raceway
DESCRIPTION:http://kic.org.nz/event-36731\n\nKids in Cars\n
DTSTAMP:20181224T110346Z
END:VEVENT
END:VCALENDAR
